BEGIN:VCALENDAR
VERSION:2.0
PRODID:-//SPD Kalbach - ECPv4.3.5//NONSGML v1.0//EN
CALSCALE:GREGORIAN
METHOD:PUBLISH
X-WR-CALNAME:SPD Kalbach
X-ORIGINAL-URL:http://www.spd-kalbach.de
X-WR-CALDESC:Events for SPD Kalbach
BEGIN:VEVENT
DTSTART;TZID=Europe/Berlin:20180819T110000
DTEND;TZID=Europe/Berlin:20180819T170000
DTSTAMP:20260421T124049
CREATED:20180812T101100Z
LAST-MODIFIED:20180812T101100Z
UID:862-1534676400-1534698000@www.spd-kalbach.de
SUMMARY:Einladung zum Sommerfest des SPD-Ortsverein Kalbach
DESCRIPTION:An die Mandatsträger und Freunde der SPD Fraktion in Kalbach\n\nLiebe Genossinnen und Genossen\, Freunde und Bekannte!\nDie SPD Kalbach veranstaltet am Sonntag\, den 19. August 2018 ab 11.00 Uhr am Bürgerhaus\nin Heubach ihr Sommerfest\, zu dem wir hiermit herzlich einladen.\nFür das leibliche Wohl ist bestens gesorgt\, bei gekühlten Getränken\, Steaks und Würstchen\nvom Grill\, leckeren Salaten sowie einem späteren Kuchenbuffet lässt es sich dort gut\nverweilen.\n\nIm Rahmen der Veranstaltung besteht die Möglichkeit\, sich mit unserer\nLandtagsabgeordneten Sabine Waschke über die aktuelle Landespolitik auszutauschen.\n\nEbenso gibt esfür Interessierte die Gelegenheit\, die ehemalige Synagoge in Heubach bei einer\nFührung um 15.00 Uhr durch unseren Vorsitzenden Peter Manns kennenzulernen.\n\nIn unmittelbarer Nähe des Bürgerhauses befindet sich ein Spielplatz\, sodass auch für unsere\nkleinen Gäste keine lange Weile aufkommen wird.\n\nWir freuen uns auf Euer zahlreiches Kommen.
URL:http://www.spd-kalbach.de/event/einladung-zum-sommerfest-des-spd-ortsverein-kalbach/
LOCATION:Theodor-Heuß-Straße 1\, Kalbach\, 36148
END:VEVENT
END:VCALENDAR