BEGIN:VCALENDAR
VERSION:2.0
PRODID:-//SPD Kalbach - ECPv4.3.5//NONSGML v1.0//EN
CALSCALE:GREGORIAN
METHOD:PUBLISH
X-WR-CALNAME:SPD Kalbach
X-ORIGINAL-URL:http://www.spd-kalbach.de
X-WR-CALDESC:Events for SPD Kalbach
BEGIN:VEVENT
DTSTART;TZID=Europe/Berlin:20200207T200000
DTEND;TZID=Europe/Berlin:20200207T213000
DTSTAMP:20260422T112958
CREATED:20200122T125921Z
LAST-MODIFIED:20200122T130028Z
UID:974-1581105600-1581111000@www.spd-kalbach.de
SUMMARY:Einladung zur Fraktionssitzung
DESCRIPTION:Liebe Fraktionsmitglieder\, Ortsvorsteher\, Ortsbeiräte und Gemeindevorstandsmitglieder\n\nHiermit lade ich Euch zur\nFraktionssitzung der SPD Kalbach\nam Freitag\, den 7. Februar 2020\, 20.00 Uhr\,\nins Vereinshaus Oberkalbach\, Am Fennbach 25\,\nherzlich ein.\n\nTagesordnung:\nTOP 1: Eröffnung und Begrüßung\nTOP 2: Vorbereitung der Sitzung des Haupt- und Finanzausschusses am Dienstag\,\nden 11. Februar 2020\, 19.30 Uhr\, im Sitzungszimmer der\nGemeindeverwaltung in Mittelkalbach und Vorbereitung der Sitzung der\nGemeindevertretung am Dienstag\, den 18. Februar 2020\, 20.00 Uhr\nTOP 3: Öffentlichkeitsarbeit\nTOP 4: Anfragen und Mitteilungen\n\nWeitere Termine:\nFraktionssitzung am 17. April 2020\, 20.00 Uhr Gaststätte Brunhilde Möller in Veitsteinbach\n\nIst jemand an der Fraktionssitzung verhindert\, bitte ich rechtzeitig um Rückmeldung.\n\nMit freundlichen Grüßen\n\nDaniel Föller\, Schriftführer
URL:http://www.spd-kalbach.de/event/einladung-zur-fraktionssitzung-10/
LOCATION:Am Fennbach\, Kalbach\, Hessen\, 36148\, Deutschland
END:VEVENT
END:VCALENDAR