BEGIN:VCALENDAR
VERSION:2.0
PRODID:-//SPD Kalbach - ECPv4.3.5//NONSGML v1.0//EN
CALSCALE:GREGORIAN
METHOD:PUBLISH
X-WR-CALNAME:SPD Kalbach
X-ORIGINAL-URL:http://www.spd-kalbach.de
X-WR-CALDESC:Events for SPD Kalbach
BEGIN:VEVENT
DTSTART;TZID=Europe/Berlin:20211208T193000
DTEND;TZID=Europe/Berlin:20211208T213000
DTSTAMP:20260423T032415
CREATED:20211202T164933Z
LAST-MODIFIED:20211202T164933Z
UID:1152-1638991800-1638999000@www.spd-kalbach.de
SUMMARY:Einladung zur Fraktionssitzung
DESCRIPTION:Liebe Fraktionsmitglieder\, Ortsvorsteher\, Ortsbeiräte und Gemeindevorstandsmitglieder\,\n\nhiermit lade ich Euch zur\nFraktionssitzung der SPD Kalbach herzlich ein.\n\nTOP 1: Eröffnung und Begrüßung\nTOP 2: Haushalt 2022\nTOP 3: Anfragen und Mitteilungen\nIst jemand verhindert\, bitte ich rechtzeitig um Rückmeldung.\n\nTermine zum Vormerken:\nHFA Gemeindevertretung\n13.01.2022 20.01.2022\n10.03.2022 17.03.2022\n12.05.2022 19.05.2022\n07.07.2022 14.07.2022\n22.09.2022 29.09.2022\n17.11.2022 24.11.2022\n\nMit freundlichen Grüßen\nDaniel Föller\n(Fraktionsvorsitzender)
URL:http://www.spd-kalbach.de/event/einladung-zur-fraktionssitzung-12/
LOCATION:Theodor-Heuß-Straße 1\, Kalbach\, 36148
END:VEVENT
END:VCALENDAR