BEGIN:VCALENDAR
VERSION:2.0
PRODID:-//SPD Kalbach - ECPv4.3.5//NONSGML v1.0//EN
CALSCALE:GREGORIAN
METHOD:PUBLISH
X-WR-CALNAME:SPD Kalbach
X-ORIGINAL-URL:http://www.spd-kalbach.de
X-WR-CALDESC:Events for SPD Kalbach
BEGIN:VEVENT
DTSTART;TZID=Europe/Berlin:20210209T193000
DTEND;TZID=Europe/Berlin:20210209T210000
DTSTAMP:20260422T173323
CREATED:20210206T132748Z
LAST-MODIFIED:20210206T133239Z
UID:1050-1612899000-1612904400@www.spd-kalbach.de
SUMMARY:Einladung zur Fraktionssitzung
DESCRIPTION:Liebe Fraktionsmitglieder\, Ortsvorsteher\, Ortsbeiräte und Gemeindevorstandsmitglieder\,\nhiermit lade ich euch zur\nFraktionssitzung der SPD Kalbach\nam Dienstag\, den 9. Februar 2021\, herzlich ein.\nTOP 1: Eröffnung und Begrüßung\n\nTOP 2: Vorbereitung der Sitzungen des Haupt- und Finanzausschuss am 11. Februar\n\n2021 und der Gemeindevertretung am 18. Februar 2021\n\nTOP 3: Anfragen und Mitteilungen\nIst jemand verhindert\, bitte ich rechtzeitig um Rückmeldung.\n\nTermine zum Vormerken:\n1. HFA-Sitzung am 11.02.2021\, 19.30 Uhr im Bürgerhaus Mittelkalbach\n2. Sitzung der Gemeindevertretung am 18.02.2021\, 20.00 Uhr im Bürgerhaus\nMittelkalbach\n\nMit freundlichen Grüßen
URL:http://www.spd-kalbach.de/event/einladung-zur-fraktionssitzung-15/
LOCATION:Theodor-Heuß-Straße 1\, Kalbach\, 36148
END:VEVENT
END:VCALENDAR