BEGIN:VCALENDAR
VERSION:2.0
PRODID:-//SPD Kalbach - ECPv4.3.5//NONSGML v1.0//EN
CALSCALE:GREGORIAN
METHOD:PUBLISH
X-WR-CALNAME:SPD Kalbach
X-ORIGINAL-URL:http://www.spd-kalbach.de
X-WR-CALDESC:Events for SPD Kalbach
BEGIN:VEVENT
DTSTART;TZID=Europe/Berlin:20210422T193000
DTEND;TZID=Europe/Berlin:20210422T210000
DTSTAMP:20260422T191353
CREATED:20210415T130714Z
LAST-MODIFIED:20210415T130714Z
UID:1133-1619119800-1619125200@www.spd-kalbach.de
SUMMARY:Einladung zur Fraktionssitzung
DESCRIPTION:Liebe Fraktionsmitglieder\, Ortsvorsteher\, Ortsbeiräte\, Gemeindevorstandsmitglieder\nund Neugewählte\n\nHiermit lade ich Euch zur\nFraktionssitzung der SPD Kalbach\nam Donnerstag\, den 22. April 2021\, herzlich ein.\n\nTagesordnung:\nTOP 1: Eröffnung und Begrüßung\nTOP 2: Vorbereitung der konstituierenden Sitzung der Gemeindevertretung\nam 29.04.2021 Im Bürgerhaus Mittelkalbach. Der Beginn der Sitzung\nwird voraussichtlich 19.00 Uhr sein.\nTOP 3: Anfragen und Mitteilungen\nEs war zunächst geplant\, die Konstituierung der Ausschüsse direkt im Anschluss an die\nKonstituierende Sitzung der Gemeindevertretung durchzuführen. Dies kann aus formellen\nGründen jedoch nicht durchgeführt werden.\nTermine zum Vormerken:\nHFA-Sitzungen (19:30 Uhr) Gemeindevertretung (20:00 Uhr)\n20. Mai 2021 27. Mai 2021\n01. Juli 2021 08. Juli 2021\n09. September 2021 16.09.2021\nMi.\, 10. November 2021 18. November 2021\n13. Januar 2022 20. Januar 2022\nBürgerversammlung: 02. Dezember 2021\nBitte kommt möglichst vollzählig zur Sitzung und gebt rechtzeitig Bescheid\, falls ihr verhindert seid.\n\nMit freundlichen Grüßen\n\nDaniel Föller\, Schriftführer
URL:http://www.spd-kalbach.de/event/einladung-zur-fraktionssitzung-16/
LOCATION:Theodor-Heuß-Straße 1\, Kalbach\, 36148
END:VEVENT
END:VCALENDAR