BEGIN:VCALENDAR
VERSION:2.0
PRODID:-//SPD Kalbach - ECPv4.3.5//NONSGML v1.0//EN
CALSCALE:GREGORIAN
METHOD:PUBLISH
X-WR-CALNAME:SPD Kalbach
X-ORIGINAL-URL:http://www.spd-kalbach.de
X-WR-CALDESC:Events for SPD Kalbach
BEGIN:VEVENT
DTSTART;TZID=Europe/Berlin:20210518T193000
DTEND;TZID=Europe/Berlin:20210518T210000
DTSTAMP:20260422T204457
CREATED:20210513T181828Z
LAST-MODIFIED:20210513T181857Z
UID:1140-1621366200-1621371600@www.spd-kalbach.de
SUMMARY:Einladung zur Fraktionssitzung
DESCRIPTION:Liebe Fraktionsmitglieder\, Ortsvorsteher\, Ortsbeiräte und Gemeindevorstandsmitglieder\n\nHiermit lade ich Euch zur\nFraktionssitzung der SPD-Kalbach\nam Dienstag\, den 18. Mai 2021\, 19.30 Uhr\, herzlich ein.\nTagesordnung:\nTOP 1: Eröffnung und Begrüßung\nTOP 2: Vorbereitung der Sitzung des Haupt- und Finanzausschusses mit\n\nKonstituierung am 20.05.2021 und der Sitzung der\nGemeindevertretung am 27.05.2021\, jeweils im Bürgerhaus\nMittelkalbach\n\nTOP 3: Fachseminare für kommunale Mandatsträger\nTOP 4: Anfragen und Mitteilungen\n\nTermine zum Vormerken:\nHFA-Sitzungen (19:30 Uhr) Gemeindevertretung (19:00 Uhr)\n01. Juli 2021 08. Juli 2021\n09. September 2021 16.09.2021\nMi.\, 10. November 2021 18. November 2021\n13. Januar 2022 20. Januar 2022\n\nBürgerversammlung: 02. Dezember 2021\n\nMit freundlichen Grüßen\n\nDaniel Föller\n(Fraktionsvorsitzender)
URL:http://www.spd-kalbach.de/event/einladung-zur-fraktionssitzung-17/
LOCATION:Theodor-Heuß-Straße 1\, Kalbach\, 36148
END:VEVENT
END:VCALENDAR