BEGIN:VCALENDAR
VERSION:2.0
PRODID:-//SPD Kalbach - ECPv4.3.5//NONSGML v1.0//EN
CALSCALE:GREGORIAN
METHOD:PUBLISH
X-WR-CALNAME:SPD Kalbach
X-ORIGINAL-URL:http://www.spd-kalbach.de
X-WR-CALDESC:Events for SPD Kalbach
BEGIN:VEVENT
DTSTART;TZID=Europe/Berlin:20210628T193000
DTEND;TZID=Europe/Berlin:20210628T210000
DTSTAMP:20260422T221558
CREATED:20210628T101844Z
LAST-MODIFIED:20210628T101844Z
UID:1143-1624908600-1624914000@www.spd-kalbach.de
SUMMARY:Einladung zur Fraktionssitzung
DESCRIPTION:Liebe Fraktionsmitglieder\, Ortsvorsteher\, Ortsbeiräte und Gemeindevorstandsmitglieder\n\nHiermit lade ich Euch zur\nFraktionssitzung der SPD-Kalbach herzlich ein.\n\nTagesordnung:\nTOP 1: Eröffnung und Begrüßung\nTOP 2: Vorbereitung der Sitzung des Haupt- und Finanzausschusses am\n01.07.2021 und der Sitzung der Gemeindevertretung am 08.07.2021\,\njeweils im Bürgerhaus Mittelkalbach\nTOP 3: Anfragen und Mitteilungen\n\nTermine zum Vormerken:\nHFA-Sitzungen (19:30 Uhr) Gemeindevertretung (19:30 Uhr)\n09. September 2021 16.09.2021\nMi.\, 10. November 2021 18. November 2021\n13. Januar 2022 20. Januar 2022\nBürgerversammlung: 02. Dezember 2021\nEs haben noch nicht alle Fraktionsmitglieder ihre Bankverbindung für die Überweisung der\nAufwandsentschädigungen in die Liste eingetragen. Bitte bringt Eure Bankverbindungsdaten zur Sitzung mit!\nBitte kommt möglichst vollzählig und gebt rechtzeitig Bescheid\, falls ihr verhindert seid.\n\nMit freundlichen Grüßen\n\nDaniel Föller\n(Fraktionsvorsitzender)
URL:http://www.spd-kalbach.de/event/einladung-zur-fraktionssitzung-18/
LOCATION:Theodor-Heuß-Straße 1\, Kalbach\, 36148
END:VEVENT
END:VCALENDAR