BEGIN:VCALENDAR
VERSION:2.0
PRODID:-//SPD Kalbach - ECPv4.3.5//NONSGML v1.0//EN
CALSCALE:GREGORIAN
METHOD:PUBLISH
X-WR-CALNAME:SPD Kalbach
X-ORIGINAL-URL:http://www.spd-kalbach.de
X-WR-CALDESC:Events for SPD Kalbach
BEGIN:VEVENT
DTSTART;TZID=Europe/Berlin:20210907T193000
DTEND;TZID=Europe/Berlin:20210907T210000
DTSTAMP:20260423T013341
CREATED:20210907T082339Z
LAST-MODIFIED:20210907T082339Z
UID:1146-1631043000-1631048400@www.spd-kalbach.de
SUMMARY:Einladung zur Fraktionssitzung
DESCRIPTION:Liebe Fraktionsmitglieder\, Ortsvorsteher\, Ortsbeiräte und Gemeindevorstandsmitglieder\n\nHiermit lade ich Euch zur\nFraktionssitzung der SPD-Kalbach\nam Dienstag\, den 7. September 2021\,\nherzlich ein.\n\nTagesordnung:\nTOP 1: Eröffnung und Begrüßung\nTOP 2: Vorbereitung der Sitzung des Haupt- und Finanzausschusses\nam Mittwoch\, den 8.9.2021 und der Sitzung der Gemeindevertretung\nam Donnerstag\, den 23.9.2021\, jeweils im Bürgerhaus Mittelkalbach\nTOP 3: Antrag der SPD-Fraktion: Voraushelfer\nTOP 4: Anfragen und Mitteilungen\n\nTermine zum Vormerken:\nHFA-Sitzungen (19:30 Uhr) Gemeindevertretung (19:30 Uhr)\n08.09.2021 23.09.2021\nMi.\, 10.11.2021 18.11.2021\n13.01.2022 20.01.2022\nBürgerversammlung: 02.12.2021\nBitte kommt möglichst vollzählig und gebt rechtzeitig Bescheid\, falls ihr verhindert seid.\n\nMit freundlichen Grüßen\nDaniel Föller\n(Fraktionsvorsitzender)
URL:http://www.spd-kalbach.de/event/einladung-zur-fraktionssitzung-19/
LOCATION:Theodor-Heuß-Straße 1\, Kalbach\, 36148
END:VEVENT
END:VCALENDAR