BEGIN:VCALENDAR
VERSION:2.0
PRODID:-//SPD Kalbach - ECPv4.3.5//NONSGML v1.0//EN
CALSCALE:GREGORIAN
METHOD:PUBLISH
X-WR-CALNAME:SPD Kalbach
X-ORIGINAL-URL:http://www.spd-kalbach.de
X-WR-CALDESC:Events for SPD Kalbach
BEGIN:VEVENT
DTSTART;TZID=Europe/Berlin:20211109T193000
DTEND;TZID=Europe/Berlin:20211109T210000
DTSTAMP:20260423T030912
CREATED:20211104T135823Z
LAST-MODIFIED:20211104T135823Z
UID:1149-1636486200-1636491600@www.spd-kalbach.de
SUMMARY:Einladung zur Fraktionssitzung
DESCRIPTION:An die Mitglieder der\nSPD Fraktion der Gemeinde Kalbach\nsowie die SPD Ortsvorsteher\, SPD Ortsbeiratsmitglieder\nund die Gemeindevorstandsmitglieder der SPD in Kalbach\n\nLiebe Fraktionsmitglieder\, Ortsvorsteher\, Ortsbeiräte und Gemeindevorstandsmitglieder\,\n\nhiermit lade ich Euch zur\nFraktionssitzung der SPD Kalbach\nam Dienstag\, den 9. November 2021\, herzlich ein.\n\nTOP 1: Eröffnung und Begrüßung\nTOP 2: Vorbereitung der Sitzungen des Haupt- und Finanzausschuss am 10.\nNovember 2021 und der Gemeindevertretung am 18. November 2021\nTOP 3: Anfragen und Mitteilungen\n\nIst jemand verhindert\, bitte ich rechtzeitig um Rückmeldung.\n\nTermine zum Vormerken:\n1. HFA-Sitzung am 13.01.2022\n2. Sitzung der Gemeindevertretung am 20.01.2022
URL:http://www.spd-kalbach.de/event/einladung-zur-fraktionssitzung-20/
LOCATION:Theodor-Heuß-Straße 1\, Kalbach\, 36148
END:VEVENT
END:VCALENDAR