BEGIN:VCALENDAR
VERSION:2.0
PRODID:-//SPD Kalbach - ECPv4.3.5//NONSGML v1.0//EN
CALSCALE:GREGORIAN
METHOD:PUBLISH
X-WR-CALNAME:SPD Kalbach
X-ORIGINAL-URL:http://www.spd-kalbach.de
X-WR-CALDESC:Events for SPD Kalbach
BEGIN:VEVENT
DTSTART;TZID=Europe/Berlin:20220308T193000
DTEND;TZID=Europe/Berlin:20220308T203000
DTSTAMP:20260423T062154
CREATED:20220304T135943Z
LAST-MODIFIED:20220304T140019Z
UID:1164-1646767800-1646771400@www.spd-kalbach.de
SUMMARY:Einladung zur Fraktionssitzung
DESCRIPTION:Liebe Fraktionsmitglieder\, Ortsvorsteher\, Ortsbeiräte und Gemeindevorstandsmitglieder\nHiermit lade ich Euch zur\nFraktionssitzung der SPD-Kalbach\nherzlich ein.\n\nTagesordnung:\nTOP 1: Eröffnung und Begrüßung\nTOP 2: Vorbereitung der Sitzung des Haupt- und Finanzausschusses\nam Donnerstag\, den 10.03.2022 und der Sitzung der\nGemeindevertretung am Donnerstag\, den 17.03.2022\, jeweils im\nBürgerhaus Mittelkalbach\nTOP 4: Anfragen und Mitteilungen\nZur Fraktionssitzung am Dienstag kommt bitte möglichst vollzählig und gebt mir rechtzeitig\nBescheid\, falls jemand verhindert sein sollte.\nMit freundlichen Grüßen\n\nDaniel Föller\n(Fraktionsvorsitzender)
URL:http://www.spd-kalbach.de/event/einladung-zur-fraktionssitzung-21/
LOCATION:Theodor-Heuß-Straße 1\, Kalbach\, 36148
END:VEVENT
END:VCALENDAR