BEGIN:VCALENDAR
VERSION:2.0
PRODID:-//SPD Kalbach - ECPv4.3.5//NONSGML v1.0//EN
CALSCALE:GREGORIAN
METHOD:PUBLISH
X-WR-CALNAME:SPD Kalbach
X-ORIGINAL-URL:http://www.spd-kalbach.de
X-WR-CALDESC:Events for SPD Kalbach
BEGIN:VEVENT
DTSTART;TZID=Europe/Berlin:20220704T200000
DTEND;TZID=Europe/Berlin:20220704T210000
DTSTAMP:20260423T091041
CREATED:20220704T154924Z
LAST-MODIFIED:20220704T154924Z
UID:1172-1656964800-1656968400@www.spd-kalbach.de
SUMMARY:Einladung zur Fraktionssitzung
DESCRIPTION:Liebe Fraktionsmitglieder\, Ortsvorsteher\, Ortsbeiräte und Gemeindevorstandsmitglieder\n\nHiermit lade ich Euch zur\nFraktionssitzung der SPD-Kalbach\nam Montag\, den 4. Juli 2022\, herzlich ein.\n\nTagesordnung:\nTOP 1: Eröffnung und Begrüßung\nTOP 2: Vorbereitung der Sitzung des Haupt- und Finanzausschusses\nam Donnerstag\, den 07.07.2022 und der Sitzung der\nGemeindevertretung am Donnerstag\, den 14.07.2022\, jeweils im\nBürgerhaus Mittelkalbach\n\nTOP 4: Anfragen und Mitteilungen\n\nKommt bitte möglichst vollzählig und gebt mir rechtzeitig Bescheid\, falls jemand verhindert sein\nsollte.\n\nMit freundlichen Grüßen\nDaniel Föller\n(Fraktionsvorsitzender)\n\nTermine zum Vormerken:\nHFA-Sitzungen Gemeindevertretung\n22. September 2022 29. September 2022\n17. November 2022 24. November 2022
URL:http://www.spd-kalbach.de/event/einladung-zur-fraktionssitzung-23/
LOCATION:Theodor-Heuß-Straße 1\, Kalbach\, 36148
END:VEVENT
END:VCALENDAR