BEGIN:VCALENDAR
VERSION:2.0
PRODID:-//SPD Kalbach - ECPv4.3.5//NONSGML v1.0//EN
CALSCALE:GREGORIAN
METHOD:PUBLISH
X-WR-CALNAME:SPD Kalbach
X-ORIGINAL-URL:http://www.spd-kalbach.de
X-WR-CALDESC:Events for SPD Kalbach
BEGIN:VEVENT
DTSTART;TZID=Europe/Berlin:20230118T200000
DTEND;TZID=Europe/Berlin:20230118T213000
DTSTAMP:20260425T111111
CREATED:20230118T102137Z
LAST-MODIFIED:20230118T102137Z
UID:1192-1674072000-1674077400@www.spd-kalbach.de
SUMMARY:Einladung zur Fraktionssitzung
DESCRIPTION:Liebe Fraktionsmitglieder\, Ortsvorsteher\, Ortsbeiräte und Gemeindevorstandsmitglieder\n\nHiermit lade ich Euch zur\nFraktionssitzung der SPD-Kalbach\nam Montag\, den 30. Januar 2023\,\nherzlich ein.\n\nTagesordnung:\nTOP 1: Eröffnung und Begrüßung\nTOP 2: Vorbereitung der Sitzung der Gemeindevertretung am Donnerstag\, den\n02.02.2023 im Bürgerhaus Mittelkalbach\nTOP 4: Anfragen und Mitteilungen\n\nKommt bitte möglichst vollzählig und gebt mir rechtzeitig Bescheid\, falls jemand verhindert sein\nsollte.\n\nMit freundlichen Grüßen\nDaniel Föller\n(Fraktionsvorsitzender)
URL:http://www.spd-kalbach.de/event/einladung-zur-fraktionssitzung-27/
LOCATION:Theodor-Heuß-Straße 1\, Kalbach\, 36148
END:VEVENT
END:VCALENDAR