BEGIN:VCALENDAR
VERSION:2.0
PRODID:-//SPD Kalbach - ECPv4.3.5//NONSGML v1.0//EN
CALSCALE:GREGORIAN
METHOD:PUBLISH
X-WR-CALNAME:SPD Kalbach
X-ORIGINAL-URL:http://www.spd-kalbach.de
X-WR-CALDESC:Events for SPD Kalbach
BEGIN:VEVENT
DTSTART;TZID=Europe/Berlin:20180817T200000
DTEND;TZID=Europe/Berlin:20180817T213000
DTSTAMP:20260421T083716
CREATED:20180812T100627Z
LAST-MODIFIED:20180812T100627Z
UID:860-1534536000-1534541400@www.spd-kalbach.de
SUMMARY:Einladung zur Fraktionssitzung
DESCRIPTION:Liebe Fraktionsmitglieder\, Ortsvorsteher\, Ortsbeiräte und Gemeindevorstandsmitglieder\,\n\nHiermit lade ich Euch zur\nFraktionssitzung der SPD Kalbach\,\nam Freitag\, den 17. August 2018\, 20.00 Uhr\,\nins Bürgerhaus nach Heubach\, Theodor-Heuss-Straße\,\nherzlich ein.\n\nTagesordnung:\nTOP 1: Eröffnung und Begrüßung\nTOP 2: Vorbereitung der Sitzung des Haupt- und Finanzausschusses\nam Dienstag\, 21. August 2018\, im Sitzungszimmer des Rathauses\nTOP 3: Vorbereitung der Sitzung des Ausschusses für Familie\, Sport und Kultur\nTOP 4: Vorbereitung der Sitzung der Gemeindevertretung\nam Dienstag\, 28. August 2018\nTOP 5: Öffentlichkeitsarbeit\nTOP 6: Anfragen und Mitteilungen\n\nSollte jemand an der Fraktionssitzung verhindert sein\, bitte ich rechtzeitig um Rückmeldung.\nBitte versucht\, es möglich zu machen\, an der Sitzung des HFA - jedoch besonders an der\nSitzung der Gemeindevertretung - anwesend zu sein.
URL:http://www.spd-kalbach.de/event/einladung-zur-fraktionssitzung-3/
LOCATION:Theodor-Heuß-Straße 1\, Kalbach\, 36148
END:VEVENT
END:VCALENDAR