BEGIN:VCALENDAR
VERSION:2.0
PRODID:-//SPD Kalbach - ECPv4.3.5//NONSGML v1.0//EN
CALSCALE:GREGORIAN
METHOD:PUBLISH
X-WR-CALNAME:SPD Kalbach
X-ORIGINAL-URL:http://www.spd-kalbach.de
X-WR-CALDESC:Events for SPD Kalbach
BEGIN:VEVENT
DTSTART;TZID=Europe/Berlin:20181022T200000
DTEND;TZID=Europe/Berlin:20181022T213000
DTSTAMP:20260421T123920
CREATED:20181017T083006Z
LAST-MODIFIED:20181017T083102Z
UID:878-1540238400-1540243800@www.spd-kalbach.de
SUMMARY:Einladung zur Fraktionssitzung
DESCRIPTION:Liebe Fraktionsmitglieder\, Ortsvorsteher\, Ortsbeiräte und Gemeindevorstandsmitglieder\,\n\nhiermit lade ich Euch zur\nFraktionssitzung der SPD Kalbach\nam Montag\, den 22. Oktober 2018\, herzlich ein.\n\nTagesordnung:\nTOP 1: Eröffnung und Begrüßung\nTOP 2: Vorbereitung der Sitzung des Haupt- und Finanzausschusses\nam Dienstag\, 23. Oktober 2018\, im Sitzungszimmer des Rathauses\nTOP 3: Vorbereitung der Sitzung der Gemeindevertretung\nam Dienstag\, 30. Oktober 2018\nTOP 4: Öffentlichkeitsarbeit\nTOP 5: Anfragen und Mitteilungen\nSollte jemand an der Fraktionssitzung verhindert sein\, bitte ich rechtzeitig um Rückmeldung.\n\nMit freundlichen Grüßen\nDaniel Föller\n(Schriftführer)
URL:http://www.spd-kalbach.de/event/einladung-zur-fraktionssitzung-4/
LOCATION:Am Fennbach\, Kalbach\, Hessen\, 36148\, Deutschland
END:VEVENT
END:VCALENDAR