BEGIN:VCALENDAR
VERSION:2.0
PRODID:-//SPD Kalbach - ECPv4.3.5//NONSGML v1.0//EN
CALSCALE:GREGORIAN
METHOD:PUBLISH
X-WR-CALNAME:SPD Kalbach
X-ORIGINAL-URL:http://www.spd-kalbach.de
X-WR-CALDESC:Events for SPD Kalbach
BEGIN:VEVENT
DTSTART;TZID=Europe/Berlin:20190401T193000
DTEND;TZID=Europe/Berlin:20190401T210000
DTSTAMP:20260421T211610
CREATED:20190325T080946Z
LAST-MODIFIED:20190325T080946Z
UID:937-1554147000-1554152400@www.spd-kalbach.de
SUMMARY:Einladung zur Fraktionssitzung
DESCRIPTION:Liebe Fraktionsmitglieder\, Ortsvorsteher\, Ortsbeiräte und Gemeindevorstandsmitglieder\,\n\nhiermit lade ich Euch zur\nFraktionssitzung der SPD Kalbach\,\nam Montag\, den 1. April 2019\, 19.30 Uhr\,\nins Vereinshaus Oberkalbach\, Am Fennbach 25\,\nherzlich ein.\n\nTagesordnung:\nTOP 1:Eröffnung und Begrüßung\nTOP 2:Vorbereitung der Sitzung des Haupt- und Finanzausschusses am Dienstag\,\nden 2. April 2019\, 19.30 Uhr\, im Sitzungszimmer der Gemeindeverwaltung in\nMittelkalbach und Vorbereitung der Sitzung der Gemeindevertretung am\nDienstag\, den 9. April 2019\, 20.00 Uhr\nTOP 3:Öffentlichkeitsarbeit\nTOP 4:Anfragen und Mitteilungen\n\nMit freundlichen Grüßen\n\nDaniel Föller\, Schriftführer
URL:http://www.spd-kalbach.de/event/einladung-zur-fraktionssitzung-6/
LOCATION:Am Fennbach\, Kalbach\, Hessen\, 36148\, Deutschland
END:VEVENT
END:VCALENDAR