BEGIN:VCALENDAR
VERSION:2.0
PRODID:-//SPD Kalbach - ECPv4.3.5//NONSGML v1.0//EN
CALSCALE:GREGORIAN
METHOD:PUBLISH
X-WR-CALNAME:SPD Kalbach
X-ORIGINAL-URL:http://www.spd-kalbach.de
X-WR-CALDESC:Events for SPD Kalbach
BEGIN:VEVENT
DTSTART;TZID=Europe/Berlin:20190814T190000
DTEND;TZID=Europe/Berlin:20190814T210000
DTSTAMP:20260422T022225
CREATED:20190814T095434Z
LAST-MODIFIED:20190814T095519Z
UID:951-1565809200-1565816400@www.spd-kalbach.de
SUMMARY:Einladung zur Fraktionssitzung
DESCRIPTION:Liebe Fraktionsmitglieder\, Ortsvorsteher\, Ortsbeiräte und Gemeindevorstandsmitglieder\,\n\nhiermit lade ich Euch zur\nFraktionssitzung der SPD Kalbach\,\nam Montag\, den 19. August 2019\, 19.00 Uhr\,\nzu Markus Hackenberg nach Niederkalbach\, Waldstraße 21\,\nherzlich ein.\nTagesordnung:\nTOP 1: Eröffnung und Begrüßung\nTOP 2: Vorbereitung der Sitzung des Haupt- und Finanzausschusses am Dienstag\,\nden 20. August 2019\, 19.30 Uhr\, im Sitzungszimmer der Gemeindeverwaltung\nin Mittelkalbach und Vorbereitung der Sitzung der Gemeindevertretung am\nDienstag\, den 27. August 2019\, 20.00 Uhr\nTOP 3: Öffentlichkeitsarbeit\nTOP 4: Anfragen und Mitteilungen\nIm Rahmen der Sitzung wollen wir grillen\, da noch Steaks und co. von unserem Sommerfest übriggeblieben sind.\n\nMit freundlichen Grüßen\,\n\nDaniel Föller\, Schriftführer
URL:http://www.spd-kalbach.de/event/einladung-zur-fraktionssitzung-7/
LOCATION:Schloßstraße\, Niederkalbach\, 36148
END:VEVENT
END:VCALENDAR