BEGIN:VCALENDAR
VERSION:2.0
PRODID:-//SPD Kalbach - ECPv4.3.5//NONSGML v1.0//EN
CALSCALE:GREGORIAN
METHOD:PUBLISH
X-WR-CALNAME:SPD Kalbach
X-ORIGINAL-URL:http://www.spd-kalbach.de
X-WR-CALDESC:Events for SPD Kalbach
BEGIN:VEVENT
DTSTART;TZID=Europe/Berlin:20180406T200000
DTEND;TZID=Europe/Berlin:20180406T220000
DTSTAMP:20260421T033500
CREATED:20180404T180237Z
LAST-MODIFIED:20180404T180237Z
UID:845-1523044800-1523052000@www.spd-kalbach.de
SUMMARY:Einladung zur Fraktionssitzung
DESCRIPTION:Liebe Fraktionsmitglieder\, Ortsvorsteher\, Ortsbeiräte und Gemeindevorstandsmitglieder der SPD\,\nhiermit lade ich Euch zur Fraktionssitzung der SPD Kalbach\nam Freitag\, den 6. April 2018\, 20.00 Uhr\,\nins Vereinshaus nach Oberkalbach\, Am Fennbach 25\,\nherzlich ein.\n\nTagesordnung:\nTOP 1: Eröffnung und Begrüßung\nTOP 2: Vorbereitung der Sitzung des Haupt- und Finanzausschusses\nam Dienstag\, 10. April 2018\, im Sitzungszimmer des Rathauses\nTOP 3: Vorbereitung der Sitzung der Gemeindevertretung\nam Dienstag\, 17. April 2018\nTOP 4: Öffentlichkeitsarbeit\nTOP 5: Anfragen und Mitteilungen\nSollte jemand an der Fraktionssitzung verhindert sein\, bitte ich rechtzeitig um Rückmeldung.\n\nMit freundlichen Grüßen\nDaniel Föller\n(Schriftführer)
URL:http://www.spd-kalbach.de/event/einladung-zur-fraktionssitzung/
LOCATION:Am Fennbach\, Kalbach\, Hessen\, 36148\, Deutschland
END:VEVENT
END:VCALENDAR