BEGIN:VCALENDAR
VERSION:2.0
PRODID:-//SPD Kalbach - ECPv4.3.5//NONSGML v1.0//EN
CALSCALE:GREGORIAN
METHOD:PUBLISH
X-WR-CALNAME:SPD Kalbach
X-ORIGINAL-URL:http://www.spd-kalbach.de
X-WR-CALDESC:Events for SPD Kalbach
BEGIN:VEVENT
DTSTART;TZID=Europe/Berlin:20170210T193000
DTEND;TZID=Europe/Berlin:20170210T210000
DTSTAMP:20260421T190503
CREATED:20170207T185047Z
LAST-MODIFIED:20170207T185047Z
UID:653-1486755000-1486760400@www.spd-kalbach.de
SUMMARY:Fraktionssitzung
DESCRIPTION:Einladung zur Fraktionssitzung \n\nLiebe Fraktionsmitglieder\, Ortsvorsteher\, Ortsbeiräte und Gemeindevorstandsmitglieder\, hiermit lade ich Euch zur\n\nFraktionssitzung der SPD Kalbach\nam Freitag\, den 10. Februar 2017\, 19.30 Uhr\,\nins Vereinshaus nach Oberkalbach\, Am Fennbach 25\,\n\nherzlich ein.\n\nTagesordnung: \n\n \tTOP 1: Eröffnung und Begrüßung\n \tTOP 2: Haushaltsplan 2017\n \tTOP 3: Vorbereitung der Sitzung des Haupt- und Finanzausschuss am Dienstag\, 14. Februar 2017\n \tTOP 4: Vorbereitung der Sitzung der Gemeindevertretung am Mittwoch\, 22. Februar 2017\, 20.00 Uhr\, im Bürgerhaus Niederkalbach\n \tTOP 5: Öffentlichkeitsarbeit\n \tTOP 6: Anfragen und Mitteilungen\n\nMit freundlichen Grüßen\nDaniel Föller (Schriftführer)
URL:http://www.spd-kalbach.de/event/fraktionssitzung-2/
LOCATION:Am Fennbach\, Kalbach\, Hessen\, 36148\, Deutschland
END:VEVENT
END:VCALENDAR