BEGIN:VCALENDAR
VERSION:2.0
PRODID:-//SPD Kalbach - ECPv4.3.5//NONSGML v1.0//EN
CALSCALE:GREGORIAN
METHOD:PUBLISH
X-WR-CALNAME:SPD Kalbach
X-ORIGINAL-URL:http://www.spd-kalbach.de
X-WR-CALDESC:Events for SPD Kalbach
BEGIN:VEVENT
DTSTART;TZID=Europe/Berlin:20180226T200000
DTEND;TZID=Europe/Berlin:20180226T220000
DTSTAMP:20260421T065607
CREATED:20180201T170016Z
LAST-MODIFIED:20180215T125845Z
UID:823-1519675200-1519682400@www.spd-kalbach.de
SUMMARY:Fraktionssitzung
DESCRIPTION:Liebe Fraktionsmitglieder\, Ortsvorsteher\, Ortsbeiräte und Gemeindevorstandsmitglieder\,\n\nich lade euch herzlich zu unserer nächsten Sitzung\,\n\nam Montag\, den 26. Februar 2018\, 20:00 Uhr\, in das Vereinshaus\n\nnach Oberkalbach\, Am Fennbach 25\, ein\n\nKernthema der Sitzung wird der Haushaltsplan 2018\,  die HFA-Sitzung am 27. Februar\,\n\nsowie die Sitzung der Gemeindevertretung am 6. März 2018 sein.\n\nWegen der Wichtigkeit bitte ich um vollzähliges Erscheinen\n\n 
URL:http://www.spd-kalbach.de/event/fraktionssitzung-3/
LOCATION:Am Fennbach\, Kalbach\, Hessen\, 36148\, Deutschland
END:VEVENT
END:VCALENDAR