BEGIN:VCALENDAR
VERSION:2.0
PRODID:-//SPD Kalbach - ECPv4.3.5//NONSGML v1.0//EN
CALSCALE:GREGORIAN
METHOD:PUBLISH
X-WR-CALNAME:SPD Kalbach
X-ORIGINAL-URL:http://www.spd-kalbach.de
X-WR-CALDESC:Events for SPD Kalbach
BEGIN:VEVENT
DTSTART;TZID=Europe/Berlin:20160226T193000
DTEND;TZID=Europe/Berlin:20160226T193000
DTSTAMP:20260422T013925
CREATED:20160215T201436Z
LAST-MODIFIED:20160215T201436Z
UID:333-1456515000-1456515000@www.spd-kalbach.de
SUMMARY:Mittelkalbach\, Gasthof Bergfriede
DESCRIPTION:
URL:http://www.spd-kalbach.de/event/mittelkalbach-gasthof-bergfriede/
LOCATION:Mittelkalbach
END:VEVENT
END:VCALENDAR