BEGIN:VCALENDAR
VERSION:2.0
PRODID:-//SPD Kalbach - ECPv4.3.5//NONSGML v1.0//EN
CALSCALE:GREGORIAN
METHOD:PUBLISH
X-WR-CALNAME:SPD Kalbach
X-ORIGINAL-URL:http://www.spd-kalbach.de
X-WR-CALDESC:Events for SPD Kalbach
BEGIN:VEVENT
DTSTART;TZID=Europe/Berlin:20170919T200000
DTEND;TZID=Europe/Berlin:20170919T200000
DTSTAMP:20260421T101544
CREATED:20170419T183628Z
LAST-MODIFIED:20170419T183628Z
UID:720-1505851200-1505851200@www.spd-kalbach.de
SUMMARY:Sitzung der Gemeindevertretung
DESCRIPTION:
URL:http://www.spd-kalbach.de/event/sitzung-der-gemeindevertretung-4/
END:VEVENT
END:VCALENDAR