BEGIN:VCALENDAR
VERSION:2.0
PRODID:-//SPD Kalbach - ECPv4.3.5//NONSGML v1.0//EN
CALSCALE:GREGORIAN
METHOD:PUBLISH
X-WR-CALNAME:SPD Kalbach
X-ORIGINAL-URL:http://www.spd-kalbach.de
X-WR-CALDESC:Events for SPD Kalbach
BEGIN:VEVENT
DTSTART;TZID=Europe/Berlin:20180306T200000
DTEND;TZID=Europe/Berlin:20180306T230000
DTSTAMP:20260421T051817
CREATED:20180301T180750Z
LAST-MODIFIED:20180301T180750Z
UID:835-1520366400-1520377200@www.spd-kalbach.de
SUMMARY:Sitzung der Gemeindevertretung
DESCRIPTION:Liebe Mitglieder\, Fraktionsmitglieder\, Vorstandsmitglieder und Ortsbeiratsmitglieder\,\n\nam kommenden Dienstag\, dem 06. März 2018\, findet um 20:00 Uhr\, die nächste Sitzung\, im Bürgerhaus in Oberkalbach statt.\n\nDer wichtigste TOP des Abends ist die Beratung und Beschlussfassung der Haushaltssatzung 2018.\n\nWeitere wichtige TOP sind die Sanierung der Straße "Bucheller"\,\n\ndie Ergebnis- und Finanzplanung 2018 -2021 und\n\nder Aufstellungsbeschluss Gewerbegebiet Uttrichshausen\, In der Struth.\n\nViele weitere TOP werden behandelt und teilweise abgestimmt.\n\nDen Schluss bildet "Anfragen und Mitteilungen"\n\nDie Sitzung ist öffentlich.
URL:http://www.spd-kalbach.de/event/sitzung-der-gemeindevertretung-6/
LOCATION:Auf der Döllau\, Kalbach\, 36148\, Deutschland
END:VEVENT
END:VCALENDAR