BEGIN:VCALENDAR
VERSION:2.0
PRODID:-//SPD Kalbach - ECPv4.3.5//NONSGML v1.0//EN
CALSCALE:GREGORIAN
METHOD:PUBLISH
X-WR-CALNAME:SPD Kalbach
X-ORIGINAL-URL:http://www.spd-kalbach.de
X-WR-CALDESC:Events for SPD Kalbach
BEGIN:VEVENT
DTSTART;TZID=Europe/Berlin:20190827T200000
DTEND;TZID=Europe/Berlin:20190827T220000
DTSTAMP:20260422T053002
CREATED:20190722T153357Z
LAST-MODIFIED:20190722T153357Z
UID:942-1566936000-1566943200@www.spd-kalbach.de
SUMMARY:Sitzung der Gemeindevertretung
DESCRIPTION:Die kommende Sitzung der Gemeindevertretung findet am 27.08.2019\,\n\num 20:00 Uhr statt.Ort und Themen finden Sie zeitgerecht hier.
URL:http://www.spd-kalbach.de/event/sitzung-der-gemeindevertretung-8/
END:VEVENT
END:VCALENDAR