BEGIN:VCALENDAR
VERSION:2.0
PRODID:-//SPD Kalbach - ECPv4.3.5//NONSGML v1.0//EN
CALSCALE:GREGORIAN
METHOD:PUBLISH
X-WR-CALNAME:SPD Kalbach
X-ORIGINAL-URL:http://www.spd-kalbach.de
X-WR-CALDESC:Events for SPD Kalbach
BEGIN:VEVENT
DTSTART;TZID=Europe/Berlin:20191217T200000
DTEND;TZID=Europe/Berlin:20191217T220000
DTSTAMP:20260422T100945
CREATED:20191212T145801Z
LAST-MODIFIED:20191212T150129Z
UID:971-1576612800-1576620000@www.spd-kalbach.de
SUMMARY:Sitzung der Gemeindevertretung
DESCRIPTION:Liebe Fraktionsmitglieder\n\nHiermit sende ich Euch die Erinnerung an die\nSitzung der Gemeindevertretung am kommenden Dienstag\, den 17. Dezember 2019\,\num 20.00 Uhr in der Gaststätte „Zum Bergfriede“\, Büchenberger Str. 5\, Mittelkalbach.\n\nMit freundlichen  Grüßen\n\nDaniel Föller\,\n\nSchriftführer
URL:http://www.spd-kalbach.de/event/sitzung-der-gemeindevertretung-9/
LOCATION:Mittelkalbach
END:VEVENT
END:VCALENDAR