BEGIN:VCALENDAR
VERSION:2.0
PRODID:-//SPD Kalbach - ECPv4.3.5//NONSGML v1.0//EN
CALSCALE:GREGORIAN
METHOD:PUBLISH
X-WR-CALNAME:SPD Kalbach
X-ORIGINAL-URL:http://www.spd-kalbach.de
X-WR-CALDESC:Events for SPD Kalbach
BEGIN:VEVENT
DTSTART;TZID=Europe/Berlin:20190820T193000
DTEND;TZID=Europe/Berlin:20190820T210000
DTSTAMP:20260422T035839
CREATED:20190722T152947Z
LAST-MODIFIED:20190722T152947Z
UID:940-1566329400-1566334800@www.spd-kalbach.de
SUMMARY:Sitzung des HFA
DESCRIPTION:Die Themen der nächsten Sitzung des HFA\, am Dienstag den 20.08.2019\, 19:30 Uhr\,\n\nfinden Sie demnächst auf dieser Seite.
URL:http://www.spd-kalbach.de/event/sitzung-des-hfa/
LOCATION:Hauptstraße 12\, Mittelkalbach\, Hessen\, 36148
END:VEVENT
END:VCALENDAR