BEGIN:VCALENDAR
VERSION:2.0
PRODID:-//SPD Kalbach - ECPv4.3.5//NONSGML v1.0//EN
CALSCALE:GREGORIAN
METHOD:PUBLISH
X-WR-CALNAME:SPD Kalbach
X-ORIGINAL-URL:http://www.spd-kalbach.de
X-WR-CALDESC:Events for SPD Kalbach
BEGIN:VEVENT
DTSTART;TZID=Europe/Berlin:20190809T080000
DTEND;TZID=Europe/Berlin:20190809T170000
DTSTAMP:20260422T021952
CREATED:20190809T191235Z
LAST-MODIFIED:20190809T191349Z
UID:945-1565337600-1565370000@www.spd-kalbach.de
SUMMARY:Sommerfest des SPD Ortsvereins Kalbach
DESCRIPTION:Liebe Genossinnen und Genossen\, Freunde und Bekannte!\n\nDie SPD Kalbach veranstaltet am Sonntag\, den 11. August 2019 ab 11.00 Uhr\,am Bürgerhaus                                          in Niederkalbach\, ihr Sommerfest\, zu dem wir hiermit herzlich einladen.\n\nFür das leibliche Wohl ist bestens gesorgt\, bei gekühlten Getränken\, Steaks und Würstchen\nvom Grill\, leckeren Salaten sowie einem späteren Kuchenbuffet lässt es sich dort gut\nverweilen.\n\nWir freuen uns auf Euer zahlreiches Kommen.
URL:http://www.spd-kalbach.de/event/sommerfest-des-spd-ortsvereins-kalbach/
LOCATION:Blankenbachring\, 4\, Niederkalbach\, Hessen\, 36148
END:VEVENT
END:VCALENDAR