BEGIN:VCALENDAR
VERSION:2.0
PRODID:-//SPD Kalbach - ECPv4.3.5//NONSGML v1.0//EN
CALSCALE:GREGORIAN
METHOD:PUBLISH
X-WR-CALNAME:SPD Kalbach
X-ORIGINAL-URL:http://www.spd-kalbach.de
X-WR-CALDESC:Events for SPD Kalbach
BEGIN:VEVENT
DTSTART;TZID=Europe/Berlin:20160225T193000
DTEND;TZID=Europe/Berlin:20160225T193000
DTSTAMP:20260422T032239
CREATED:20160215T201358Z
LAST-MODIFIED:20160215T201358Z
UID:332-1456428600-1456428600@www.spd-kalbach.de
SUMMARY:Uttrichshausen\, Gasthof Müller
DESCRIPTION:
URL:http://www.spd-kalbach.de/event/uttrichshausen-gasthof-mueller/
LOCATION:Talbrückenstraße 14\, Uttrichshausen\, 36148
END:VEVENT
END:VCALENDAR