BEGIN:VCALENDAR
VERSION:2.0
PRODID:-//SPD Kalbach - ECPv4.3.5//NONSGML v1.0//EN
CALSCALE:GREGORIAN
METHOD:PUBLISH
X-WR-CALNAME:SPD Kalbach
X-ORIGINAL-URL:http://www.spd-kalbach.de
X-WR-CALDESC:Events for SPD Kalbach
BEGIN:VEVENT
DTSTART;TZID=Europe/Berlin:20160222T193000
DTEND;TZID=Europe/Berlin:20160222T193000
DTSTAMP:20260422T061932
CREATED:20160213T223121Z
LAST-MODIFIED:20160217T214915Z
UID:64-1456169400-1456169400@www.spd-kalbach.de
SUMMARY:Veisteinbach\, Bürgerhaus mit Sabine Waschke\, MdL
DESCRIPTION:
URL:http://www.spd-kalbach.de/event/veisteinbach-bu%cc%88rgerhaus-mit-sabine-waschke-mdl/
LOCATION:Vitusstraße \, Veitsteinbach\, 36148
END:VEVENT
END:VCALENDAR